BEGIN:VCALENDAR
VERSION:2.0
PRODID:-//NTC Luxemburg - ECPv5.8.0//NONSGML v1.0//EN
CALSCALE:GREGORIAN
METHOD:PUBLISH
X-WR-CALNAME:NTC Luxemburg
X-ORIGINAL-URL:https://www.ntc.lu
X-WR-CALDESC:Evenementen voor NTC Luxemburg
BEGIN:VTIMEZONE
TZID:Europe/Luxembourg
BEGIN:DAYLIGHT
TZOFFSETFROM:+0100
TZOFFSETTO:+0200
TZNAME:CEST
DTSTART:20210328T010000
END:DAYLIGHT
BEGIN:STANDARD
TZOFFSETFROM:+0200
TZOFFSETTO:+0100
TZNAME:CET
DTSTART:20211031T010000
END:STANDARD
END:VTIMEZONE
BEGIN:VEVENT
DTSTART;VALUE=DATE:20210622
DTEND;VALUE=DATE:20210623
DTSTAMP:20210722T184621
CREATED:20210301T161054Z
LAST-MODIFIED:20210301T161054Z
UID:4259-1624320000-1624406399@www.ntc.lu
SUMMARY:Rapport
DESCRIPTION:Vandaag krijgen alle leerlingen hun rapport mee naar huis.
URL:https://www.ntc.lu/event/rapport/
CATEGORIES:Rapport
ATTACH;FMTTYPE=image/jpeg:https://www.ntc.lu/wp-content/uploads/2021/03/NTC-Rapport.jpg
END:VEVENT
END:VCALENDAR