BEGIN:VCALENDAR
VERSION:2.0
PRODID:-//NTC Luxemburg - ECPv5.9.1//NONSGML v1.0//EN
CALSCALE:GREGORIAN
METHOD:PUBLISH
X-WR-CALNAME:NTC Luxemburg
X-ORIGINAL-URL:https://www.ntc.lu
X-WR-CALDESC:Evenementen voor NTC Luxemburg
BEGIN:VTIMEZONE
TZID:Europe/Luxembourg
BEGIN:DAYLIGHT
TZOFFSETFROM:+0100
TZOFFSETTO:+0200
TZNAME:CEST
DTSTART:20210328T010000
END:DAYLIGHT
BEGIN:STANDARD
TZOFFSETFROM:+0200
TZOFFSETTO:+0100
TZNAME:CET
DTSTART:20211031T010000
END:STANDARD
END:VTIMEZONE
BEGIN:VEVENT
DTSTART;VALUE=DATE:20210709
DTEND;VALUE=DATE:20210915
DTSTAMP:20211010T014546
CREATED:20210301T123638Z
LAST-MODIFIED:20210301T140046Z
UID:4165-1625788800-1631663999@www.ntc.lu
SUMMARY:Zomervakantie
DESCRIPTION:Wij wensen jullie allemaal een hele fijne zomervakantie! Tot volgend schooljaar!
URL:https://www.ntc.lu/event/zomervakantie/
CATEGORIES:Vakantie
ATTACH;FMTTYPE=image/jpeg:https://www.ntc.lu/wp-content/uploads/2021/03/NTC-Zomervakantie.jpg
END:VEVENT
BEGIN:VEVENT
DTSTART;TZID=Europe/Luxembourg:20210914T153000
DTEND;TZID=Europe/Luxembourg:20210914T180000
DTSTAMP:20211010T014546
CREATED:20210820T082653Z
LAST-MODIFIED:20210820T082653Z
UID:5369-1631633400-1631642400@www.ntc.lu
SUMMARY:Eerste schooldag
DESCRIPTION:De eerste schooldag van het nieuwe schooljaar 2021-2022! Wij zien jullie graag weer dinsdag 14 september.
URL:https://www.ntc.lu/event/eerste-schooldag/
LOCATION:Ecole du Grund\, Bisserwee 12\, Luxembourg\, Luxemburg
CATEGORIES:Eerste schooldag
ATTACH;FMTTYPE=image/jpeg:https://www.ntc.lu/wp-content/uploads/2021/08/NTC-Evenementen-Back-to-school.jpg
END:VEVENT
END:VCALENDAR