BEGIN:VCALENDAR
VERSION:2.0
PRODID:-//NTC Luxemburg - ECPv5.9.1//NONSGML v1.0//EN
CALSCALE:GREGORIAN
METHOD:PUBLISH
X-WR-CALNAME:NTC Luxemburg
X-ORIGINAL-URL:https://www.ntc.lu
X-WR-CALDESC:Evenementen voor NTC Luxemburg
BEGIN:VTIMEZONE
TZID:Europe/Luxembourg
BEGIN:DAYLIGHT
TZOFFSETFROM:+0100
TZOFFSETTO:+0200
TZNAME:CEST
DTSTART:20210328T010000
END:DAYLIGHT
BEGIN:STANDARD
TZOFFSETFROM:+0200
TZOFFSETTO:+0100
TZNAME:CET
DTSTART:20211031T010000
END:STANDARD
END:VTIMEZONE
BEGIN:VEVENT
DTSTART;TZID=Europe/Luxembourg:20210921T174500
DTEND;TZID=Europe/Luxembourg:20210921T181500
DTSTAMP:20211010T014554
CREATED:20210820T090521Z
LAST-MODIFIED:20210907T204516Z
UID:5376-1632246300-1632248100@www.ntc.lu
SUMMARY:Ouderavond - Startgesprek
DESCRIPTION:De eerste ouderavond van het schooljaar 2021-2022 vindt vandaag plaats. Maak na de reguliere les kennis met de leerkracht(en)\, neem een kijkje in de klas(sen) en bespreek de doelstellingen van uw kind voor dit schooljaar. U ontvangt van de schoolleider via e-mail een uitnodiging. \nGroep 1-2: 17:45-18:00 uur \nGroep 3 t/m 8: 18:00-18:15 uur. \nN.B. Tijdens dit bezoek is het dragen van een mondmasker verplicht.
URL:https://www.ntc.lu/event/ouderavond-startgesprek/
LOCATION:Ecole du Grund\, Bisserwee 12\, Luxembourg\, Luxemburg
CATEGORIES:Oudergesprek
ATTACH;FMTTYPE=image/jpeg:https://www.ntc.lu/wp-content/uploads/2021/08/NTC-Evenementen-Ouderavond.jpg
END:VEVENT
END:VCALENDAR