BEGIN:VCALENDAR
VERSION:2.0
PRODID:-//NTC Luxemburg - ECPv5.9.1//NONSGML v1.0//EN
CALSCALE:GREGORIAN
METHOD:PUBLISH
X-WR-CALNAME:NTC Luxemburg
X-ORIGINAL-URL:https://www.ntc.lu
X-WR-CALDESC:Evenementen voor NTC Luxemburg
BEGIN:VTIMEZONE
TZID:Europe/Luxembourg
BEGIN:DAYLIGHT
TZOFFSETFROM:+0100
TZOFFSETTO:+0200
TZNAME:CEST
DTSTART:20210328T010000
END:DAYLIGHT
BEGIN:STANDARD
TZOFFSETFROM:+0200
TZOFFSETTO:+0100
TZNAME:CET
DTSTART:20211031T010000
END:STANDARD
END:VTIMEZONE
BEGIN:VEVENT
DTSTART;VALUE=DATE:20211030
DTEND;VALUE=DATE:20211108
DTSTAMP:20211010T014622
CREATED:20210430T074324Z
LAST-MODIFIED:20210907T144003Z
UID:5168-1635552000-1636329599@www.ntc.lu
SUMMARY:Herfstvakantie
DESCRIPTION:Heerlijk even tot rust komen in de bossen en genieten van de prachtige herfstkleuren. Fijne vakantie allemaal!
URL:https://www.ntc.lu/event/herfstvakantie/
CATEGORIES:Vakantie
ATTACH;FMTTYPE=image/jpeg:https://www.ntc.lu/wp-content/uploads/2021/04/NTC-Herfstvakantie.jpg
END:VEVENT
END:VCALENDAR